BEGIN:VCALENDAR
VERSION:2.0
PRODID:-//eventon.com NONSGML v1.0//EN
BEGIN:VEVENT
UID:69e7789b71149
DTSTAMP:20260421T091611
DTSTART:20260529
DTEND:20260601
TZID:America/Chicago
LOCATION:Hyatt Regency Minneapolis 1300 Nicollet Mall
SUMMARY:IBBA 2026 Annual Conference
DESCRIPTION: The Business Broker Event of the Year. Click here to register Regular rate ends May 5th Venue: Hyatt Regency Minneapolis 1300 Nicollet Mall\,  Minneapolis\,  MN 55403 Once you are a registered Attendee\,  you will receive access to the room block in your confirmation email. Hotel Website View the Full Agenda[..]\nhttps://ibbacanada.org/event/ibba-2026-annual-conference/
URL:https://ibbacanada.org/event/ibba-2026-annual-conference/
END:VEVENT
END:VCALENDAR