BEGIN:VCALENDAR
VERSION:2.0
PRODID:-//eventon.com NONSGML v1.0//EN
BEGIN:VEVENT
UID:69e777a837603
DTSTAMP:20260421T091208
DTSTART:20250218T180000Z
DTEND:20250218T190000Z
TZID:America/New_York
LOCATION:
SUMMARY:Quarterly Member Meeting
DESCRIPTION: Hello\,  IBBA Canada Members! This gathering presents an excellent opportunity for all of us to reconnect\,  exchange valuable insights\,  and stay informed of the latest industry developments. We look forward to your participation in what promises to be an engaging and productive session.Wishing you all a prosperous and successful year[..]\nhttps://ibbacanada.org/event/quarterly-member-meeting/
URL:https://ibbacanada.org/event/quarterly-member-meeting/
END:VEVENT
END:VCALENDAR