BEGIN:VCALENDAR
VERSION:2.0
PRODID:-//eventon.com NONSGML v1.0//EN
BEGIN:VEVENT
UID:69e73daaf38d7
DTSTAMP:20260421T050442
DTSTART:20240314T173000Z
DTEND:20240314T183000Z
TZID:America/New_York
LOCATION:
SUMMARY:Educational Workshop - March 14\,  2024
DESCRIPTION: Best Practices for Working with Counsel in M&A Transactions Description: Assisting the client in choosing the best practice\,  when to bring counsel into the transaction\,  how best to work with them\,  knowing when to direct questions/advise to counsel versus the broker\,  etc. Bio: Michelle Mondorf\,  Partner at Loopstra Nixon LLP[..]\nhttps://ibbacanada.org/event/educational-workshop-march-14-2024/
URL:https://ibbacanada.org/event/educational-workshop-march-14-2024/
END:VEVENT
END:VCALENDAR